BEGIN:VCALENDAR
VERSION:2.0
PRODID:-//hacksw/handcal//NONSGML v1.0//EN
BEGIN:VEVENT
DTSTART:20230311T150000
DTEND:20230311T180000
LOCATION:Macondo
ORGANIZER;CN=Dominique Launay - Occitanie-Méditerranée (CSA):MAILTO:dominique.launay@centraliens.net
SUMMARY:JNI 2023  LOWTECH  J1 : Visite de MACONDO
DESCRIPTION:CSA-OM Soutient et participe aux activités de Ingénieurs Et Scientifiques de France dans la région.A ce titre nous t'invitons à participer aux Journées Nationales de l'Ingénieur organisées par IESF-OM...
URL:https://association.centralesupelec-alumni.com/fr/group/occitanie-me-diterranee-csa/305/calendar/jni-2023-lowtech-j1-visite-de-macondo/2023/03/11/6820
BEGIN:VALARM
TRIGGER:-P0DT1H0M0S
ACTION:DISPLAY
END:VALARM
END:VEVENT
END:VCALENDAR