BEGIN:VCALENDAR
VERSION:2.0
PRODID:-//hacksw/handcal//NONSGML v1.0//EN
BEGIN:VEVENT
DTSTART:20230311T104500
DTEND:20230311T123000
LOCATION:La Seine Musicale \n92100 BOULOGNE-BILLANCOURT
ORGANIZER;CN=Jacqueline Pasdeloup - CSA Ile de France:MAILTO:jacqueline@asso-supelec.org
SUMMARY:Visite guidée " Les coulisses de la Seine Musicale "
DESCRIPTION:\nAu cœur de l’île Seguin, la Seine Musicale a été pensée comme une cité de la Musique par l’architecte  Shigeru Ban. C’est l'une des scènes les plus modernes d’Europe. \nNous découvrirons tous les...
URL:https://association.centralesupelec-alumni.com/fr/group/csa-ile-de-france/587/calendar/visite-guidee-les-coulisses-de-la-seine-musicale/2023/03/11/6818
BEGIN:VALARM
TRIGGER:-P0DT1H0M0S
ACTION:DISPLAY
END:VALARM
END:VEVENT
END:VCALENDAR