BEGIN:VCALENDAR
VERSION:2.0
PRODID:-//hacksw/handcal//NONSGML v1.0//EN
BEGIN:VEVENT
DTSTART:20230308T183000
DTEND:20230308T210000
LOCATION:Davy's at St James, Crown Passage, Pall Mall London SWTY 6QY \nSWTY 6QY
ORGANIZER;CN=Brice Benoliel - Grande-Bretagne (CSA):MAILTO:brice.benoliel@centraliens.net
SUMMARY:Afterwork & Wine Tasting CentraleSupélec à Londres
DESCRIPTION:~ Conférence & Wine Tasting ~Wednesday March 8th 6:30 pm - 10 pm:round_pushpin:Davy's at St James, Crown Passage, Pall Mall London SWTY 6QY You are invited to a CentraleSupélec afterwork for...
URL:https://association.centralesupelec-alumni.com/fr/group/grande-bretagne-csa/265/calendar/afterwork-wine-tasting-centralesupelec-a-londres/2023/03/08/6810
BEGIN:VALARM
TRIGGER:-P0DT1H0M0S
ACTION:DISPLAY
END:VALARM
END:VEVENT
END:VCALENDAR