BEGIN:VCALENDAR
VERSION:2.0
PRODID:-//hacksw/handcal//NONSGML v1.0//EN
BEGIN:VEVENT
DTSTART:20230307T190000
DTEND:20230307T220000
LOCATION:The Camp \n550, rue Denis Papin 13100, Aix-en-Provence \n13100 AIX EN PROVENCE
ORGANIZER;CN=Philippe Cabrit - Provence (CSA):MAILTO:philippe.cabrit@centralesupelec-alumni.com
SUMMARY:Capture du CO2 par les Plantes: stratégies de l'Agriculture pour lutter contre le changement climatique
DESCRIPTION:Conférence débat avec\n Alain Gojon\n Directeur de recherche à l'INRAE \n Mardi 7 mars à 19h00 à thecamp (Aix les Milles) L'agriculture est concernée au premier plan par le dérèglement climatique car ...
URL:https://association.centralesupelec-alumni.com/fr/group/provence-csa/347/calendar/capture-du-co2-par-les-plantes-strategies-de-l-agriculture-pour-lutter-contre-le-changement-climatique/2023/03/07/6798
BEGIN:VALARM
TRIGGER:-P0DT1H0M0S
ACTION:DISPLAY
END:VALARM
END:VEVENT
END:VCALENDAR