BEGIN:VCALENDAR
VERSION:2.0
PRODID:-//hacksw/handcal//NONSGML v1.0//EN
BEGIN:VEVENT
DTSTART:20230308T123000
DTEND:20230308T133000
LOCATION:https://us02web.zoom.us/j/81680545835
ORGANIZER;CN=CentraleSupélec Alumni:MAILTO:csa-alumni@centralesupelec-alumni.com
SUMMARY:Cycle "Suits & Relax" - Les bienfaits de la pratique de la sophrologie
DESCRIPTION:Code d'accès du webinar Code secret : 772786...
URL:https://association.centralesupelec-alumni.com/fr/event/cycle-suits-relax-les-bienfaits-de-la-pratique-de-la-sophrologie/2023/03/08/6788
BEGIN:VALARM
TRIGGER:-P0DT1H0M0S
ACTION:DISPLAY
END:VALARM
END:VEVENT
END:VCALENDAR