BEGIN:VCALENDAR
VERSION:2.0
PRODID:-//hacksw/handcal//NONSGML v1.0//EN
BEGIN:VEVENT
DTSTART:20230413T103000Z
DTEND:20230413T120000Z
LOCATION:
ORGANIZER;CN=CSA Carrières:MAILTO:carrieres@centraliens.net
SUMMARY:Annulé  / Ose ton charisme, déploie ton leadership
DESCRIPTION:\nCe webinaire est annulé\nSais-tu que tu détiens le pouvoir d’inspirer des foules entières ? \nTu n’y crois pas ? Et pourtant, un leader emblématique sommeille en toi !\nViens découvrir les clés pour...
URL:https://association.centralesupelec-alumni.com/fr/event/annule-ose-ton-charisme-deploie-ton-leadership/2023/04/13/6779
BEGIN:VALARM
TRIGGER:-P0DT1H0M0S
ACTION:DISPLAY
END:VALARM
END:VEVENT
END:VCALENDAR