BEGIN:VCALENDAR
VERSION:2.0
PRODID:-//hacksw/handcal//NONSGML v1.0//EN
BEGIN:VEVENT
DTSTART:20230401T113000Z
DTEND:20230401T215500Z
LOCATION:CentraleSupélec - Bâtiment Eiffel - Université Paris-Saclay \n8, Rue Joliot Curie \n91190 GIF-SUR-YVETTE
ORGANIZER;CN=CentraleSupélec Alumni:MAILTO:csa-alumni@centralesupelec-alumni.com
SUMMARY:Quinquennales (promotions se terminant en 3 et en 8)
DESCRIPTION:\nLIEN VERS LES QUINQUENNALES **** 2024**** >>>>>>  https://association.centralesupelec-alumni.com/fr/event/quinquennales-promotions-se-terminant-en-4-et-en-9/2023/12/15/7642\n- Plan d'accès au...
URL:https://association.centralesupelec-alumni.com/fr/event/quinquennales-promotions-se-terminant-en-3-et-en-8/2023/04/01/6769
BEGIN:VALARM
TRIGGER:-P0DT1H0M0S
ACTION:DISPLAY
END:VALARM
END:VEVENT
END:VCALENDAR