BEGIN:VCALENDAR
VERSION:2.0
PRODID:-//hacksw/handcal//NONSGML v1.0//EN
BEGIN:VEVENT
DTSTART:20230331T060000Z
DTEND:20230331T080000Z
LOCATION:Siège de l'Association \n8, Rue Jean Goujon \n75008 PARIS
ORGANIZER;CN=CentraleSupélec Alumni:MAILTO:csa-alumni@centralesupelec-alumni.com
SUMMARY:Face à Face avec Catherine MacGregor (ECP 95) - Directrice générale d'Engie
DESCRIPTION:\nCatherine MacGregor (ECP 95) - Directrice générale d'ENGIE \n« La souveraineté énergétiquecrise des énergies, réduction de l’empreinte carbone, guerre en Ukraine,... » \nCatherine MacGregor est...
URL:https://association.centralesupelec-alumni.com/fr/event/face-a-face-avec-catherine-macgregor-ecp-95-directrice-generale-d-engie/2023/03/31/6759
BEGIN:VALARM
TRIGGER:-P0DT1H0M0S
ACTION:DISPLAY
END:VALARM
END:VEVENT
END:VCALENDAR