BEGIN:VCALENDAR
VERSION:2.0
PRODID:-//hacksw/handcal//NONSGML v1.0//EN
BEGIN:VEVENT
DTSTART:20230413T063000Z
DTEND:20230413T073000Z
LOCATION:
ORGANIZER;CN=CSA Carrières:MAILTO:carrieres@centraliens.net
SUMMARY:Intermines Webinar carrières « Trouver un nouvel emploi » – La négociation de salaire
DESCRIPTION:\nCycle de formation « Trouver un nouvel emploi »\nPeut-on encore négocier son salaire ? Ne se met on pas alors dans une situation délicate ?\nBien sûr il faut négocier, ne serait-ce que pour...
URL:https://association.centralesupelec-alumni.com/fr/event/intermines-webinar-carrieres-trouver-un-nouvel-emploi-la-negociation-de-salaire/2023/04/13/6755
BEGIN:VALARM
TRIGGER:-P0DT1H0M0S
ACTION:DISPLAY
END:VALARM
END:VEVENT
END:VCALENDAR