BEGIN:VCALENDAR
VERSION:2.0
PRODID:-//hacksw/handcal//NONSGML v1.0//EN
BEGIN:VEVENT
DTSTART:20230302T083000
DTEND:20230302T093000
LOCATION:
ORGANIZER;CN=CSA Carrières:MAILTO:carrieres@centraliens.net
SUMMARY:Intermines Webinar carrières « Trouver un nouvel emploi » – L'entretien réseau
DESCRIPTION:\nCycle de formation « Trouver un nouvel emploi »L'entretien réseau : La démarche réseau est incontournable pour réussir sa transition professionnelle. Elle permet de se faire connaître, mais aussi de...
URL:https://association.centralesupelec-alumni.com/fr/event/intermines-webinar-carrieres-trouver-un-nouvel-emploi-l-entretien-reseau/2023/03/02/6747
BEGIN:VALARM
TRIGGER:-P0DT1H0M0S
ACTION:DISPLAY
END:VALARM
END:VEVENT
END:VCALENDAR