BEGIN:VCALENDAR
VERSION:2.0
PRODID:-//hacksw/handcal//NONSGML v1.0//EN
BEGIN:VEVENT
DTSTART:20230124T180000
DTEND:20230124T210000
LOCATION:39, Boulevard de la Tour-Maubourg 75007 PARIS OU EN VISIO
ORGANIZER;CN=Laurent Labaeye - Immobilier (CSA):MAILTO:llabaeye@nexity.fr
SUMMARY:Sociétés foncières cotées : comment se ré-inventer face à un nouvel environnement ?
DESCRIPTION:Je vous relaie ci-dessous une invitation à une manifestation (en présentiel ou en distanciel) organisée par nos amis de Sciences Po Immobilier.L'inscription se fait exclusivement au lien suivant...
URL:https://association.centralesupelec-alumni.com/fr/group/immobilier-csa/327/calendar/societes-foncieres-cotees-comment-se-re-inventer-face-a-un-nouvel-environnement/2023/01/24/6744
BEGIN:VALARM
TRIGGER:-P0DT1H0M0S
ACTION:DISPLAY
END:VALARM
END:VEVENT
END:VCALENDAR