BEGIN:VCALENDAR
VERSION:2.0
PRODID:-//hacksw/handcal//NONSGML v1.0//EN
BEGIN:VEVENT
DTSTART:20230128T101000
DTEND:20230128T150000
LOCATION:Restaurant La Corniche \n17, Littoral Frédéric Mistral \n83000 TOULON
ORGANIZER;CN=Alexandre Francois - Var:MAILTO:alexandre.francois@wanadoo.fr
SUMMARY:Prochaine sortie de CSA Var le 28 janvier
DESCRIPTION:Ludovic Penin (ECP69),  membre de notre groupe du Var, très impliqué dans les  questions climatiques, tiendra une conférence intitulée :Réchauffement climatique anthropique : le point après 30...
URL:https://association.centralesupelec-alumni.com/fr/group/var/283/calendar/prochaine-sortie-de-csa-var-le-28-janvier/2023/01/28/6733
BEGIN:VALARM
TRIGGER:-P0DT1H0M0S
ACTION:DISPLAY
END:VALARM
END:VEVENT
END:VCALENDAR