BEGIN:VCALENDAR
VERSION:2.0
PRODID:-//hacksw/handcal//NONSGML v1.0//EN
BEGIN:VEVENT
DTSTART:20230416T200000
DTEND:20230421T180000
LOCATION:Saint-Malo
ORGANIZER;CN=Claude Bailly - Voile Centralienne et Supélec:MAILTO:g.claude.bailly@gmail.com
SUMMARY:Croisière rapide au départ de saint-Malo
DESCRIPTION:Nous t'invitons à partager quelques bords pour une Croisière en Pogo 10.50m (6 places maximum)Selon tes disponibilités, viens le week-end et/ou la semaine.Nous organiserons le programme de navigation ...
URL:https://association.centralesupelec-alumni.com/fr/group/voile-centralienne-et-supelec/345/calendar/croisiere-rapide-au-depart-de-saint-malo/2023/04/16/6731
BEGIN:VALARM
TRIGGER:-P0DT1H0M0S
ACTION:DISPLAY
END:VALARM
END:VEVENT
END:VCALENDAR