BEGIN:VCALENDAR
VERSION:2.0
PRODID:-//hacksw/handcal//NONSGML v1.0//EN
BEGIN:VEVENT
DTSTART:20230126T180000
DTEND:20230126T200000
LOCATION:espace réception d'Encuentro \nHalls de la Filature, 26 Rue Félix Faure \n59350  Saint-André-lez-Lille
ORGANIZER;CN=Isabelle HENNEBIQUE - Nord-Pas-de-Calais (CSA):MAILTO:isabellehennebique@gmail.com
SUMMARY:Galette Centralienne 2023
DESCRIPTION:Cher et chère camarade,\nLe groupe Hauts-de-France t'invite à participer à la conviviale et traditionnelle galette de rentrée centralienne dans la chocolaterie Encuentro :Jeudi 26 janvier 2023A partir...
URL:https://association.centralesupelec-alumni.com/fr/group/nord-pas-de-calais-csa/41/calendar/galette-centralienne-2023/2023/01/26/6712
BEGIN:VALARM
TRIGGER:-P0DT1H0M0S
ACTION:DISPLAY
END:VALARM
END:VEVENT
END:VCALENDAR