BEGIN:VCALENDAR
VERSION:2.0
PRODID:-//hacksw/handcal//NONSGML v1.0//EN
BEGIN:VEVENT
DTSTART:20150926T120000
DTEND:20150926T150000
LOCATION:Parc Floral de Vincennes \nRoute de la Pyramide \n75012 PARIS
ORGANIZER;CN=Yoann Roques - Promotion ECP 2012 - Boris Vian:MAILTO:11roquesy@gmail.com
SUMMARY:Pique Nique Promotion  2012 - Parc Floral de Vincennes
DESCRIPTION:Les délégués de la Promotion 2012 organisent un Pique Nique au Parc Floral de Vincennes le Samedi 26 Septembre 2015 à Midi.\nEn ce qui concerne les modalités, nous suggérons que chacun amène son...
URL:https://association.centralesupelec-alumni.com/fr/group/promotion-ecp-2012-boris-vian/119/calendar/pique-nique-promotion-2012-parc-floral-de-vincennes/2015/09/26/67
BEGIN:VALARM
TRIGGER:-P0DT1H0M0S
ACTION:DISPLAY
END:VALARM
END:VEVENT
END:VCALENDAR