BEGIN:VCALENDAR
VERSION:2.0
PRODID:-//hacksw/handcal//NONSGML v1.0//EN
BEGIN:VEVENT
DTSTART:20230125T140000
DTEND:20230125T173000
LOCATION:Ministère de la Santé et des solidarité  \n20, Avenue de Ségur \n75007 PARIS
ORGANIZER;CN=Gabriela Belaid - CentraleSupelec Au Féminin (CSA):MAILTO:gabriela.belaid@centraliens.net
SUMMARY:Procès du Sexisme, le 25 janvier 2023 à 14h
DESCRIPTION:Cher.e.s ami.e.s, Notre collectif Ensemble contre le sexisme dont CentraleSupelec au Féminin est membre actif  prépare activement le Procès du Sexisme, le 25 janvier 2023 à 14h (accueil café à partir ...
URL:https://association.centralesupelec-alumni.com/fr/group/centralesupelec-au-feminin-csa/73/calendar/proces-du-sexisme-le-25-janvier-2023-a-14h/2023/01/25/6690
BEGIN:VALARM
TRIGGER:-P0DT1H0M0S
ACTION:DISPLAY
END:VALARM
END:VEVENT
END:VCALENDAR