BEGIN:VCALENDAR
VERSION:2.0
PRODID:-//hacksw/handcal//NONSGML v1.0//EN
BEGIN:VEVENT
DTSTART:20230124T190000
DTEND:20230124T220000
LOCATION:Maison des Centraliens et Supélec \n8, Rue Jean Goujon, Salon Blériot-Eiffel, 3ème étage \n75008 PARIS
ORGANIZER;CN=Régis Langlois - CSA Ile de France:MAILTO:regis.langlois.1975@asso-supelec.org
SUMMARY:Conférence : Limites et défis de l’intégration d’électricité variable et intermittente dans les réseaux électriques
DESCRIPTION:Le Groupe Régional Île de France vous invite à sa prochaine conférence\nCode d'accès à la visioconférence :https://vimeo.com/event/2732417\nLimites et défis de l’intégration d’électricité variable et ...
URL:https://association.centralesupelec-alumni.com/fr/group/csa-ile-de-france/587/calendar/conference-limites-et-defis-de-l-integration-d-electricite-variable-et-intermittente-dans-les-reseaux-electriques/2023/01/24/6680
BEGIN:VALARM
TRIGGER:-P0DT1H0M0S
ACTION:DISPLAY
END:VALARM
END:VEVENT
END:VCALENDAR