BEGIN:VCALENDAR
VERSION:2.0
PRODID:-//hacksw/handcal//NONSGML v1.0//EN
BEGIN:VEVENT
DTSTART:20230125T123000
DTEND:20230125T133000
LOCATION:https://us02web.zoom.us/j/89325572970
ORGANIZER;CN=CentraleSupélec Alumni:MAILTO:csa-alumni@centralesupelec-alumni.com
SUMMARY:Cycle "Suits & Relax" - Le sommeil
DESCRIPTION:Code d'accès du webinar Code secret : 858057...
URL:https://association.centralesupelec-alumni.com/fr/event/cycle-suits-relax-le-sommeil/2023/01/25/6674
BEGIN:VALARM
TRIGGER:-P0DT1H0M0S
ACTION:DISPLAY
END:VALARM
END:VEVENT
END:VCALENDAR