BEGIN:VCALENDAR
VERSION:2.0
PRODID:-//hacksw/handcal//NONSGML v1.0//EN
BEGIN:VEVENT
DTSTART:20230404T103000Z
DTEND:20230404T120000Z
LOCATION:
ORGANIZER;CN=CSA Carrières:MAILTO:carrieres@centraliens.net
SUMMARY:Les 6 étapes clés pour donner un nouveau souffle à sa carrière
DESCRIPTION:\nVous êtes à la croisée des chemins dans votre carrière et vous vous posez des questions pour la suite ? Que vous soyez en quête de votre prochain poste, que vous vouliez progresser au sein de votre ...
URL:https://association.centralesupelec-alumni.com/fr/event/les-6-etapes-cles-pour-donner-un-nouveau-souffle-a-sa-carriere/2023/04/04/6671
BEGIN:VALARM
TRIGGER:-P0DT1H0M0S
ACTION:DISPLAY
END:VALARM
END:VEVENT
END:VCALENDAR