BEGIN:VCALENDAR
VERSION:2.0
PRODID:-//hacksw/handcal//NONSGML v1.0//EN
BEGIN:VEVENT
DTSTART:20230124T180000
DTEND:20230124T210000
LOCATION:Maison des Centraliens \n8, Rue Jean Goujon \n75008 PARIS
ORGANIZER;CN=CentraleSupélec Alumni:MAILTO:csa-alumni@centralesupelec-alumni.com
SUMMARY:Cycle "Le manager se met en scène" - Atelier 3 : La gestion des émotions
DESCRIPTION:\nDécouvre ce nouveau cycle d'ateliers animés selon les techniques du théâtre.\nCes ateliers sont dissociables et limités à 12 participants.\n- La gestion des émotions : 24 janvier\n- La gestion de...
URL:https://association.centralesupelec-alumni.com/fr/event/cycle-le-manager-se-met-en-scene-atelier-3-la-gestion-des-emotions/2023/01/24/6660
BEGIN:VALARM
TRIGGER:-P0DT1H0M0S
ACTION:DISPLAY
END:VALARM
END:VEVENT
END:VCALENDAR