BEGIN:VCALENDAR
VERSION:2.0
PRODID:-//hacksw/handcal//NONSGML v1.0//EN
BEGIN:VEVENT
DTSTART:20230119T181500
DTEND:20230119T210000
LOCATION:Brasserie Le Valmy \n30, Place Ronde \n92800 PUTEAUX
ORGANIZER;CN=Charles Bienfait - Société Générale:MAILTO:charles.bienfait@gmail.com
SUMMARY:[Société Générale] Cocktail de rentrée 2023, jeudi 19 janvier
DESCRIPTION:Chers tous,\nAprès une longue absence pendant la crise du Covid, nous avons le plaisir de vous convier au :Cocktail de rentrée, jeudi 19 janvier à 18h15Brasserie Le VALMY  –  30 Place Ronde, 92800...
URL:https://association.centralesupelec-alumni.com/fr/group/societe-generale/355/calendar/-societe-generale-cocktail-de-rentree-2023-jeudi-19-janvier/2023/01/19/6589
BEGIN:VALARM
TRIGGER:-P0DT1H0M0S
ACTION:DISPLAY
END:VALARM
END:VEVENT
END:VCALENDAR