BEGIN:VCALENDAR
VERSION:2.0
PRODID:-//hacksw/handcal//NONSGML v1.0//EN
BEGIN:VEVENT
DTSTART:20221026T120000
DTEND:20221026T130000
LOCATION:https://us02web.zoom.us/j/89058931943?pwd=VWE5MkY3aDBSTWhBbDVMbkttUDNOdz09
ORGANIZER;CN=Alicia Conejo - Les groupes:MAILTO:alicia.conejo@centraliens.net
SUMMARY:Atelier agitateurs sur les nouveautés !!!
DESCRIPTION:Code d'accès du webinar 384784...
URL:https://association.centralesupelec-alumni.com/fr/group/les-groupes/427/calendar/atelier-agitateurs-sur-les-nouveautes/2022/10/26/6533
BEGIN:VALARM
TRIGGER:-P0DT1H0M0S
ACTION:DISPLAY
END:VALARM
END:VEVENT
END:VCALENDAR