BEGIN:VCALENDAR
VERSION:2.0
PRODID:-//hacksw/handcal//NONSGML v1.0//EN
BEGIN:VEVENT
DTSTART:20221207T190000
DTEND:20221207T210000
LOCATION:https://us02web.zoom.us/j/86860177139?pwd=TTZRWGpQQWpGWDhwT2J0Ujc1ak01QT09
ORGANIZER;CN=Yves Barriol - Ingénieur et Développement Durable (CSA):MAILTO:yves.barriol@centraliens.net
SUMMARY:Conférence–débat autour du concept de l’éco-socio-conception
DESCRIPTION:Code d'accès du webinar 748285...
URL:https://association.centralesupelec-alumni.com/fr/group/ingenieur-et-developpement-durable-csa/67/calendar/conference-debat-autour-du-concept-de-l-eco-socio-conception/2022/12/07/6532
BEGIN:VALARM
TRIGGER:-P0DT1H0M0S
ACTION:DISPLAY
END:VALARM
END:VEVENT
END:VCALENDAR