BEGIN:VCALENDAR
VERSION:2.0
PRODID:-//hacksw/handcal//NONSGML v1.0//EN
BEGIN:VEVENT
DTSTART:20221020T090000
DTEND:20221020T110000
LOCATION:1083 \n49, Avenue Gambetta \n26100 ROMANS-SUR-ISERE
ORGANIZER;CN=Rui Cai - Lyon (CSA):MAILTO:cai.rui@hotmail.com
SUMMARY:Visite de l’entreprise 1083 à Romans-sur-Isère : des jeans écologiques made in France
DESCRIPTION:L'inscription est gratuite et se fait en ligne sur la page suivante :\nhttps://www.cd2s.fr/manifestations/visite-1083-romans/\nDécouvrez l’entreprise 1083, qui se distingue par une démarche...
URL:https://association.centralesupelec-alumni.com/fr/group/lyon-csa/299/calendar/visite-de-l-entreprise-1083-a-romans-sur-isere-des-jeans-ecologiques-made-in-france/2022/10/20/6511
BEGIN:VALARM
TRIGGER:-P0DT1H0M0S
ACTION:DISPLAY
END:VALARM
END:VEVENT
END:VCALENDAR