BEGIN:VCALENDAR
VERSION:2.0
PRODID:-//hacksw/handcal//NONSGML v1.0//EN
BEGIN:VEVENT
DTSTART:20221105T103000
DTEND:20221105T190000
LOCATION:Atrium de l'isara-agrapole lyon \n23, Rue Jean Baldassini \n69007 LYON
ORGANIZER;CN=Rui Cai - Lyon (CSA):MAILTO:cai.rui@hotmail.com
SUMMARY:5ème SALON DES VIGNERONS INGÉNIEURS
DESCRIPTION:
URL:https://association.centralesupelec-alumni.com/fr/group/lyon-csa/299/calendar/5eme-salon-des-vignerons-ingenieurs/2022/11/05/6510
BEGIN:VALARM
TRIGGER:-P0DT1H0M0S
ACTION:DISPLAY
END:VALARM
END:VEVENT
END:VCALENDAR