BEGIN:VCALENDAR
VERSION:2.0
PRODID:-//hacksw/handcal//NONSGML v1.0//EN
BEGIN:VEVENT
DTSTART:20221020T123000
DTEND:20221020T133500
LOCATION:Zio Gino \n4, Avenue du Saint-Laurent \n44800 SAINT-HERBLAIN
ORGANIZER;CN=Guillaume Landru - Ouest-Atlantique (CSA):MAILTO:guillaume.landru@gmail.com
SUMMARY:Rencontres et Restos CSOA sur Nantes Ouest jeudi 20 octobre 2022
DESCRIPTION:Bonjour,Notre prochain rendez-vous "Rencontres et Restos" aura lieu sur Nantes Ouest le jeudi 20 octobre midi chez Zio Gino à Atlantis avec pizzas et autres spécialités italiennes.Nous vous y...
URL:https://association.centralesupelec-alumni.com/fr/group/ouest-atlantique-csa/297/calendar/rencontres-et-restos-csoa-sur-nantes-ouest-jeudi-20-octobre-2022/2022/10/20/6485
BEGIN:VALARM
TRIGGER:-P0DT1H0M0S
ACTION:DISPLAY
END:VALARM
END:VEVENT
END:VCALENDAR