BEGIN:VCALENDAR
VERSION:2.0
PRODID:-//hacksw/handcal//NONSGML v1.0//EN
BEGIN:VEVENT
DTSTART:20211022T183000
DTEND:20211022T223000
LOCATION:Restaurant les Feuillantines  \n101, Route de Gauré \n31130 BALMA
ORGANIZER;CN=Jean-Yves Papazoglou - CSA Occitanie-Midi Pyrénées:MAILTO:jeanyves.papazoglou@gmail.com
SUMMARY:"Progressistes pour le climat" par Jacques Roger-Machart
DESCRIPTION:A l'occasion de la sortie de son dernier livre, notre camarade Jacques Roger-Machart  * ( ECP 63),  nous parlera de sa vision du mix énergétique souhaitable pour la France.Dans son livre, Jacques...
URL:https://association.centralesupelec-alumni.com/fr/group/csa-occitanie-midi-pyrenees/291/calendar/-progressistes-pour-le-climat-par-jacques-roger-machart/2021/10/22/5548
BEGIN:VALARM
TRIGGER:-P0DT1H0M0S
ACTION:DISPLAY
END:VALARM
END:VEVENT
END:VCALENDAR