BEGIN:VCALENDAR
VERSION:2.0
PRODID:-//hacksw/handcal//NONSGML v1.0//EN
BEGIN:VEVENT
DTSTART:20210622T183000
DTEND:20210622T200000
LOCATION:
ORGANIZER;CN=CSA Carrières:MAILTO:carrieres@centraliens.net
SUMMARY:Vous avez MOINS de 53 ans, l’indemnisation Pôle Emploi, comment ça marche ?
DESCRIPTION:Lien de connexion  : https://zoom.us/j/91586572423?pwd=dWlWc3lsWDV4SUNvL0JMRzc3RElxZz09\nID de réunion : 915 8657 2423\nCode secret : 904157 Ce webinaire est organisé par Sciences Po AlumniPeut-être...
URL:https://association.centralesupelec-alumni.com/fr/event/vous-avez-moins-de-53-ans-l-indemnisation-pole-emploi-comment-ca-marche/2021/06/22/5435
BEGIN:VALARM
TRIGGER:-P0DT1H0M0S
ACTION:DISPLAY
END:VALARM
END:VEVENT
END:VCALENDAR