BEGIN:VCALENDAR
VERSION:2.0
PRODID:-//hacksw/handcal//NONSGML v1.0//EN
BEGIN:VEVENT
DTSTART:20210705T183000
DTEND:20210705T223500
LOCATION:CHEZ CLAUDE  \n166, Rue Saint-Honoré \n75001 PARIS
ORGANIZER;CN=Gabriela Belaid - CentraleSupelec Au Féminin (CSA):MAILTO:gabriela.belaid@centraliens.net
SUMMARY:APERO retrouvailles en présentiel
DESCRIPTION:bonjoru à toutes et à tous, \nEnfin, après 18 mois d'isolement, nous pouvons enfon nous rencontrer ou pour certains nous revoir. Nous vous proposons ce premier apéro en présentiel en groupe de 15...
URL:https://association.centralesupelec-alumni.com/fr/group/centralesupelec-au-feminin-csa/73/calendar/apero-retrouvailles-en-presentiel/2021/07/05/5434
BEGIN:VALARM
TRIGGER:-P0DT1H0M0S
ACTION:DISPLAY
END:VALARM
END:VEVENT
END:VCALENDAR