BEGIN:VCALENDAR
VERSION:2.0
PRODID:-//hacksw/handcal//NONSGML v1.0//EN
BEGIN:VEVENT
DTSTART:20210701T190000
DTEND:20210701T203000
LOCATION:
ORGANIZER;CN=David Brown-Brulant - Consultants C2Sup (CSA):MAILTO:david.brownbrulant@gmail.com
SUMMARY:RENFORCEMENT SUPPLY CHAIN II/II : « PERSONALYSIS ».
DESCRIPTION:Le succès du Supply Chain repose bien sur la bonne coopération d’individus différents et à l’origine, tout le monde est partant ! Cependant on observe que le potentiel de complémentarité est souvent...
URL:https://association.centralesupelec-alumni.com/fr/group/consultants-c2sup-csa/321/calendar/-renforcement-supply-chain-ii-ii-personalysis/2021/07/01/5425
BEGIN:VALARM
TRIGGER:-P0DT1H0M0S
ACTION:DISPLAY
END:VALARM
END:VEVENT
END:VCALENDAR