BEGIN:VCALENDAR
VERSION:2.0
PRODID:-//hacksw/handcal//NONSGML v1.0//EN
BEGIN:VEVENT
DTSTART:20210628T183000
DTEND:20210628T200000
LOCATION:
ORGANIZER;CN=Guillaume Landru - Ouest-Atlantique (CSA):MAILTO:guillaume.landru@gmail.com
SUMMARY:Webinaire  IESF - Hydrogène, Emploi et Territoires Industriels dans le Grand Ouest.
DESCRIPTION:L’association IESF Pays de la Loire et ses partenaires vous invitent le 28 Juin de 18h30 à 20h à participer à cette conférence à distance et poser toutes vos questions.HYDROGÈNE, EMPLOI ET TERRITOIRES...
URL:https://association.centralesupelec-alumni.com/fr/group/ouest-atlantique-csa/297/calendar/webinaire-iesf-hydrogene-emploi-et-territoires-industriels-dans-le-grand-ouest/2021/06/28/5380
BEGIN:VALARM
TRIGGER:-P0DT1H0M0S
ACTION:DISPLAY
END:VALARM
END:VEVENT
END:VCALENDAR