BEGIN:VCALENDAR
VERSION:2.0
PRODID:-//hacksw/handcal//NONSGML v1.0//EN
BEGIN:VEVENT
DTSTART:20210629T190000
DTEND:20210629T203000
LOCATION:https://us02web.zoom.us/j/85326599601?pwd=Q1NWaDlTM1NBNHZhTHhsSFRoS1pJdz09
ORGANIZER;CN=Christian Duquesne - Énergie Durable (CSA):MAILTO:christian-duquesne@wanadoo.fr
SUMMARY:Décarbonation : une stratégie ambitieuse de la RATP
DESCRIPTION:Code d'accès du webinar 842506...
URL:https://association.centralesupelec-alumni.com/fr/group/energie-durable-csa/323/calendar/decarbonation-une-strategie-ambitieuse-de-la-ratp/2021/06/29/5379
BEGIN:VALARM
TRIGGER:-P0DT1H0M0S
ACTION:DISPLAY
END:VALARM
END:VEVENT
END:VCALENDAR