BEGIN:VCALENDAR
VERSION:2.0
PRODID:-//hacksw/handcal//NONSGML v1.0//EN
BEGIN:VEVENT
DTSTART:20210701T180000
DTEND:20210701T193000
LOCATION:https://us02web.zoom.us/j/82876352390?pwd=ODJUZ2pnMms0Yk9GUTh2U20veVZQZz09
ORGANIZER;CN=Jean-Yves Papazoglou - CSA Occitanie-Midi Pyrénées:MAILTO:jeanyves.papazoglou@gmail.com
SUMMARY:Le Morgann , l'hydravion à foils et propulsion H2 - 2ème épisode
DESCRIPTION:Code d'accès du webinar 618165...
URL:https://association.centralesupelec-alumni.com/fr/group/csa-occitanie-midi-pyrenees/291/calendar/le-morgann-l-hydravion-a-foils-et-propulsion-h2-2eme-episode/2021/07/01/5373
BEGIN:VALARM
TRIGGER:-P0DT1H0M0S
ACTION:DISPLAY
END:VALARM
END:VEVENT
END:VCALENDAR