BEGIN:VCALENDAR
VERSION:2.0
PRODID:-//hacksw/handcal//NONSGML v1.0//EN
BEGIN:VEVENT
DTSTART:20210623T100000
DTEND:20210623T120500
LOCATION:visio
ORGANIZER;CN=Gabriela Belaid - CentraleSupelec Au Féminin (CSA):MAILTO:gabriela.belaid@centraliens.net
SUMMARY:La Journée Internationale des Femmes Ingénieurs
DESCRIPTION:Save the date\nLa Journée Internationale des Femmes Ingénieurs\n23 Juin 2021 \nGiant et Nanoelec s'associent pour célébrer la journée internationale des femmes ingénieurs.Une table ronde publique et...
URL:https://association.centralesupelec-alumni.com/fr/group/centralesupelec-au-feminin-csa/73/calendar/la-journee-internationale-des-femmes-ingenieurs/2021/06/23/5364
BEGIN:VALARM
TRIGGER:-P0DT1H0M0S
ACTION:DISPLAY
END:VALARM
END:VEVENT
END:VCALENDAR