BEGIN:VCALENDAR
VERSION:2.0
PRODID:-//hacksw/handcal//NONSGML v1.0//EN
BEGIN:VEVENT
DTSTART:20210623T123000
DTEND:20210623T140000
LOCATION:
ORGANIZER;CN=CSA Carrières:MAILTO:carrieres@centraliens.net
SUMMARY:Mieux interagir grâce à l’Analyse Transactionnelle
DESCRIPTION:Cet atelier est pour toi si tu souhaites :Mieux te connaître et comprendre les autres à travers une découverte de l’Analyse Transactionnelle Objectifs : Mieux comprendre les différents modes de...
URL:https://association.centralesupelec-alumni.com/fr/event/mieux-interagir-grace-a-l-analyse-transactionnelle/2021/06/23/5286
BEGIN:VALARM
TRIGGER:-P0DT1H0M0S
ACTION:DISPLAY
END:VALARM
END:VEVENT
END:VCALENDAR