BEGIN:VCALENDAR
VERSION:2.0
PRODID:-//hacksw/handcal//NONSGML v1.0//EN
BEGIN:VEVENT
DTSTART:20210420T120000
DTEND:20210420T130000
LOCATION:
ORGANIZER;CN=Bruno Benoist:MAILTO:bruno.benoist@centralesupelec-alumni.com
SUMMARY:Rencontres et Restos Groupe CSOA virtuel  sur Zoom
DESCRIPTION:Cher Camarade de la région Ouest Atlantique\nEn 2021, nous avons prévu de maintenir nos rendez-vous « Rencontres et Restos » tous les 3ème mardi de chaque mois à midi .\nDu fait de la situation...
URL:https://association.centralesupelec-alumni.com/fr/event/rencontres-et-restos-groupe-csoa-virtuel-sur-zoom/2021/04/20/5265
BEGIN:VALARM
TRIGGER:-P0DT1H0M0S
ACTION:DISPLAY
END:VALARM
END:VEVENT
END:VCALENDAR