BEGIN:VCALENDAR
VERSION:2.0
PRODID:-//hacksw/handcal//NONSGML v1.0//EN
BEGIN:VEVENT
DTSTART:20210422T183000
DTEND:20210422T200000
LOCATION:
ORGANIZER;CN=CSA Carrières:MAILTO:carrieres@centraliens.net
SUMMARY:Profitez de la crise pour rebondir plus fort !
DESCRIPTION:cette conférence en ligne est organisée par Science Po Alumni\nLa crise s'éternise et vous puisez dans vos ressources pour y faire face ? Vous vous êtes adapté en urgence à une crise qui a agité votre...
URL:https://association.centralesupelec-alumni.com/fr/event/profitez-de-la-crise-pour-rebondir-plus-fort/2021/04/22/5232
BEGIN:VALARM
TRIGGER:-P0DT1H0M0S
ACTION:DISPLAY
END:VALARM
END:VEVENT
END:VCALENDAR