BEGIN:VCALENDAR
VERSION:2.0
PRODID:-//hacksw/handcal//NONSGML v1.0//EN
BEGIN:VEVENT
DTSTART:20210412T123000
DTEND:20210412T133000
LOCATION:
ORGANIZER;CN=CSA Carrières:MAILTO:carrieres@centraliens.net
SUMMARY:Career transitions made simple
DESCRIPTION:\nAt a career crossroads and not progressing as you should? 6 critical steps to find your next assignment whereyour contribution will be truly valued.If you’ve reached a plateau and wonder how to...
URL:https://association.centralesupelec-alumni.com/fr/event/career-transitions-made-simple/2021/04/12/5180
BEGIN:VALARM
TRIGGER:-P0DT1H0M0S
ACTION:DISPLAY
END:VALARM
END:VEVENT
END:VCALENDAR