BEGIN:VCALENDAR
VERSION:2.0
PRODID:-//hacksw/handcal//NONSGML v1.0//EN
BEGIN:VEVENT
DTSTART:20210318T123000
DTEND:20210318T140000
LOCATION:
ORGANIZER;CN=Irina Jaubert - Économie Sociale & Solidaire (CSA):MAILTO:irina.jaubert@mailo.com
SUMMARY:Café Frappé Saison 2 « L'obsolescence, prête à jeter ? »
DESCRIPTION:L’association HOP «Halte à l’obsolescence programmée» fédère les citoyen-ne-s pour engager les décideurs publics et privés afin d’aller vers des produits durables et réparables. Elle agit par la...
URL:https://association.centralesupelec-alumni.com/fr/group/economie-sociale-solidaire-csa/69/calendar/cafe-frappe-saison-2-l-obsolescence-prete-a-jeter/2021/03/18/5154
BEGIN:VALARM
TRIGGER:-P0DT1H0M0S
ACTION:DISPLAY
END:VALARM
END:VEVENT
END:VCALENDAR