BEGIN:VCALENDAR
VERSION:2.0
PRODID:-//hacksw/handcal//NONSGML v1.0//EN
BEGIN:VEVENT
DTSTART:20210204T183000
DTEND:20210204T200000
LOCATION:https://zoom.us/j/7254290211?pwd=VjJxWDBXQXdxWGdzZEpFd0FJT2N0dz09
ORGANIZER;CN=Rui Cai - Lyon (CSA):MAILTO:cai.rui@hotmail.com
SUMMARY:Conférence - Le tour du monde en 80... Interculturalité et mobilité internationale
DESCRIPTION:Join Zoom Meeting\nhttps://zoom.us/j/7254290211?pwd=VjJxWDBXQXdxWGdzZEpFd0FJT2N0dz09\nMeeting ID: 725 429 0211\nPasscode: C3fi17\nLa conférence de notre camarade nantais Bernard Conseil (ECP 74) sur...
URL:https://association.centralesupelec-alumni.com/fr/group/lyon-csa/299/calendar/conference-le-tour-du-monde-en-80-interculturalite-et-mobilite-internationale/2021/02/04/5102
BEGIN:VALARM
TRIGGER:-P0DT1H0M0S
ACTION:DISPLAY
END:VALARM
END:VEVENT
END:VCALENDAR