BEGIN:VCALENDAR
VERSION:2.0
PRODID:-//hacksw/handcal//NONSGML v1.0//EN
BEGIN:VEVENT
DTSTART:20210126T090000
DTEND:20210127T180000
LOCATION:
ORGANIZER;CN=CSA Carrières:MAILTO:carrieres@centraliens.net
SUMMARY:Ne rate pas les Rencontres WATs4U "Premiers Postes" en ligne les 26 et 27 janvier!
DESCRIPTION:\nUne édition spéciale "Premiers Postes"\nAlumni d'une grande école de commerce ou d'ingénieurs membre de WATs4U, tu es au tout début de ta carrière et tu souhaites découvrir de nouvelles opportunités...
URL:https://association.centralesupelec-alumni.com/fr/event/-ne-rate-pas-les-rencontres-wats4u-premiers-postes-en-ligne-les-26-et-27-janvier/2021/01/26/5091
BEGIN:VALARM
TRIGGER:-P0DT1H0M0S
ACTION:DISPLAY
END:VALARM
END:VEVENT
END:VCALENDAR