BEGIN:VCALENDAR
VERSION:2.0
PRODID:-//hacksw/handcal//NONSGML v1.0//EN
BEGIN:VEVENT
DTSTART:20210127T181500
DTEND:20210127T193000
LOCATION:
ORGANIZER;CN=Bernard Depouilly - Management de Transition (CSA):MAILTO:bdepouilly@hotmail.com
SUMMARY:Comment maîtriser vos analyses et décisions dans le contexte de vos missions ?
DESCRIPTION:Nous vous proposons une conférence sur le sujet :Comment maîtriser vos analyses et décisionsdans le contexte de vos missions ?\nAvec l’envolée de l’Intelligence Artificielle et le constat répété de...
URL:https://association.centralesupelec-alumni.com/fr/group/management-de-transition-csa/467/calendar/comment-maitriser-vos-analyses-et-decisions-dans-le-contexte-de-vos-missions/2021/01/27/5076
BEGIN:VALARM
TRIGGER:-P0DT1H0M0S
ACTION:DISPLAY
END:VALARM
END:VEVENT
END:VCALENDAR