BEGIN:VCALENDAR
VERSION:2.0
PRODID:-//hacksw/handcal//NONSGML v1.0//EN
BEGIN:VEVENT
DTSTART:20210126T173000
DTEND:20210126T190000
LOCATION:
ORGANIZER;CN=CSA Carrières:MAILTO:carrieres@centraliens.net
SUMMARY:WEBINAIRE "Optimise et améliore ta pratique du réseau même et surtout en période de crise"
DESCRIPTION:Face à la situation actuelle de crise sanitaire et de confinement, les échanges relationnels sont primordiaux pour chacun de nous. Nous voyons à quel point le soin porté à l'autre prend tout son...
URL:https://association.centralesupelec-alumni.com/fr/event/webinaire-optimise-et-ameliore-ta-pratique-du-reseau-meme-et-surtout-en-periode-de-crise/2021/01/26/5065
BEGIN:VALARM
TRIGGER:-P0DT1H0M0S
ACTION:DISPLAY
END:VALARM
END:VEVENT
END:VCALENDAR