BEGIN:VCALENDAR
VERSION:2.0
PRODID:-//hacksw/handcal//NONSGML v1.0//EN
BEGIN:VEVENT
DTSTART:20210128T180000
DTEND:20210128T193000
LOCATION:
ORGANIZER;CN=CentraleSupélec Alumni:MAILTO:csa-alumni@centralesupelec-alumni.com
SUMMARY:Cycle Grand Paris - Financement et gouvernance
DESCRIPTION:Lien direct : https://us02web.zoom.us/j/85749279893?pwd=U3F4dXd4Y0daTUdZV2NyT1hKR05jUT09\nID de réunion : 857 4927 9893\nCode secret : 608282\nCentraleSupélec Alumni, avec ses groupes professionnels :...
URL:https://association.centralesupelec-alumni.com/fr/event/cycle-grand-paris-financement-et-gouvernance/2021/01/28/5055
BEGIN:VALARM
TRIGGER:-P0DT1H0M0S
ACTION:DISPLAY
END:VALARM
END:VEVENT
END:VCALENDAR