BEGIN:VCALENDAR
VERSION:2.0
PRODID:-//hacksw/handcal//NONSGML v1.0//EN
BEGIN:VEVENT
DTSTART:20201222T180000
DTEND:20201222T200000
LOCATION:https://us02web.zoom.us/j/84160199164?pwd=UkxaSW1SV0xtOWd3bmMxNHhhSEZMQT09
ORGANIZER;CN=Jean-Yves Papazoglou - CSA Occitanie-Midi Pyrénées:MAILTO:jeanyves.papazoglou@gmail.com
SUMMARY:Un projet d'hydravion hydrogène révolutionnaire
DESCRIPTION:Code d'accès du webinar 073806...
URL:https://association.centralesupelec-alumni.com/fr/group/csa-occitanie-midi-pyrenees/291/calendar/un-projet-d-hydravion-hydrogene-revolutionnaire/2020/12/22/5032
BEGIN:VALARM
TRIGGER:-P0DT1H0M0S
ACTION:DISPLAY
END:VALARM
END:VEVENT
END:VCALENDAR