BEGIN:VCALENDAR
VERSION:2.0
PRODID:-//hacksw/handcal//NONSGML v1.0//EN
BEGIN:VEVENT
DTSTART:20210113T180000
DTEND:20210113T190000
LOCATION:https://seii.org/dejeuner-conference/mercredi-13-janvier-2021-a-18-h-webinaire/
ORGANIZER;CN=Frédéric Misheletti - Belgique (CSA):MAILTO:frederic.misheletti@gmail.com
SUMMARY:Webinaire du 13 janvier 2021 - An engineer's view on the future of healthcare (via SEII)
DESCRIPTION:La SEII nous invite à un webinaire gratuit sur les ingénieurs et le secteur santé par le professeur Pascal Verdonck.Inscription obligatoire sur leur formulaire.\nBonne Session!Frédéric Misheletti...
URL:https://association.centralesupelec-alumni.com/fr/group/belgique-csa/55/calendar/-webinaire-du-13-janvier-2021-an-engineer-s-view-on-the-future-of-healthcare-via-seii/2021/01/13/5026
BEGIN:VALARM
TRIGGER:-P0DT1H0M0S
ACTION:DISPLAY
END:VALARM
END:VEVENT
END:VCALENDAR