BEGIN:VCALENDAR
VERSION:2.0
PRODID:-//hacksw/handcal//NONSGML v1.0//EN
BEGIN:VEVENT
DTSTART:20201215T183000
DTEND:20201215T200000
LOCATION:
ORGANIZER;CN=CSA Carrières:MAILTO:carrieres@centraliens.net
SUMMARY:Apéro WATs4U : l'impact du Covid sur le secteur de la santé
DESCRIPTION:\nRetrouvons-nous pour un apéro on line  mardi 15 décembre de 18h30 à 20h.\nNous aborderons l'impact du Covid sur le secteur de la santé au cours d'une table ronde, suivie d'une session de networking ...
URL:https://association.centralesupelec-alumni.com/fr/event/apero-wats4u-l-impact-du-covid-sur-le-secteur-de-la-sante/2020/12/15/5019
BEGIN:VALARM
TRIGGER:-P0DT1H0M0S
ACTION:DISPLAY
END:VALARM
END:VEVENT
END:VCALENDAR