BEGIN:VCALENDAR
VERSION:2.0
PRODID:-//hacksw/handcal//NONSGML v1.0//EN
BEGIN:VEVENT
DTSTART:20201217T121500
DTEND:20201217T140000
LOCATION:https://us02web.zoom.us/j/82524922106
ORGANIZER;CN=Hélène Rinn - Centraliens et Supélec en Aquitaine (CSA):MAILTO:hjc.rinn@mailo.fr
SUMMARY:Climat, pollutions, pandémies : comment réorienter notre hyper-mobilité ? (Café Frappé)
DESCRIPTION:Code d'accès du webinar 163692...
URL:https://association.centralesupelec-alumni.com/fr/group/centraliens-et-supelec-en-aquitaine-csa/287/calendar/climat-pollutions-pandemies-comment-reorienter-notre-hyper-mobilite-cafe-frappe/2020/12/17/5008
BEGIN:VALARM
TRIGGER:-P0DT1H0M0S
ACTION:DISPLAY
END:VALARM
END:VEVENT
END:VCALENDAR