BEGIN:VCALENDAR
VERSION:2.0
PRODID:-//hacksw/handcal//NONSGML v1.0//EN
BEGIN:VEVENT
DTSTART:20201210T121500
DTEND:20201210T140000
LOCATION:
ORGANIZER;CN=Irina Jaubert - Économie Sociale & Solidaire (CSA):MAILTO:irina.jaubert@mailo.com
SUMMARY:Café Frappé - «Le numérique : des octets mais aussi des matières premières»
DESCRIPTION:Vous souhaitez vous informer et échanger sur la Transition Écologique, Citoyenne et Solidaire (TECS) ? Alors participez aux Cafés Frappés : ce sont des rencontres d'information et d'action citoyenne...
URL:https://association.centralesupelec-alumni.com/fr/group/economie-sociale-solidaire-csa/69/calendar/cafe-frappe-le-numerique-des-octets-mais-aussi-des-matieres-premieres/2020/12/10/5001
BEGIN:VALARM
TRIGGER:-P0DT1H0M0S
ACTION:DISPLAY
END:VALARM
END:VEVENT
END:VCALENDAR