BEGIN:VCALENDAR
VERSION:2.0
PRODID:-//hacksw/handcal//NONSGML v1.0//EN
BEGIN:VEVENT
DTSTART:20210208T080000
DTEND:20210208T093000
LOCATION:
ORGANIZER;CN=CentraleSupélec Alumni:MAILTO:csa-alumni@centralesupelec-alumni.com
SUMMARY:Cycle « Suits & Relax » – Découverte : Apprends à méditer
DESCRIPTION:Cycle « Suits & Relax » – Découverte : Apprends à méditer\nDécouvrir concrètement la pratique de la méditationCe premier cours en ligne, animé par Marie DUBOULE et Thomas GUSATTO*, permettra à chacun ...
URL:https://association.centralesupelec-alumni.com/fr/event/cycle-suits-relax-decouverte-apprends-a-mediter/2021/02/08/4989
BEGIN:VALARM
TRIGGER:-P0DT1H0M0S
ACTION:DISPLAY
END:VALARM
END:VEVENT
END:VCALENDAR